BEGIN:VCALENDAR
VERSION:2.0
PRODID:icalendar-ruby
CALSCALE:GREGORIAN
METHOD:PUBLISH
BEGIN:VEVENT
DTSTAMP:20260424T142501Z
UID:143-734590@ccukailua.org
DTSTART:20260426T211500Z
DTEND:20260426T221500Z
CLASS:PUBLIC
CREATED:20260416T134139
DESCRIPTION:If you are new to CCU\, join us after worship on April 26th at 
 11:15am for a time of sharing stories\, learning more about CCU\, asking q
 uestions\, and considering what it means to join a church 'ohana!
LAST-MODIFIED:20260416T134139
LOCATION:Sanctuary
SUMMARY:New to CCU Chat
URL;VALUE=URI:https://www.ccukailua.org/events/new-to-ccu-chat--143/2026-04
 -26
ATTACH;FILENAME=Beige Modern Job Alert for New Team Member Flyer.png;FMTTYP
 E=image/png:https://dq5pwpg1q8ru0.cloudfront.net/2026/04/16/23/41/39/70d37
 728-8574-45b4-a6d2-1e7343fd63f3/Beige%20Modern%20Job%20Alert%20for%20New%2
 0Team%20Member%20Flyer.png
END:VEVENT
END:VCALENDAR
