BEGIN:VCALENDAR
VERSION:2.0
PRODID:icalendar-ruby
CALSCALE:GREGORIAN
METHOD:PUBLISH
BEGIN:VEVENT
DTSTAMP:20260421T084542Z
UID:148-734600@ccukailua.org
DTSTART:20260421T220000Z
DTEND:20260421T230000Z
CLASS:PUBLIC
CREATED:20260416T135810
DESCRIPTION:The State of Hawaiʻi is proposing a public-private partnership
  to finance\, design\, build\, and maintain a new and larger 1\,300-bed ja
 il on Oʻahu\, at an initial estimated cost of $1 billion. Join a panel of
  experts as they facilitate an informed\, balanced examination of the pote
 ntial costs\, benefits\, and impacts of this proposal.\nThe panel includes
  voices with direct experience across the spectrum of this public policy i
 ssue: moderator Liam Chinn facilitates the Hawaiʻi Community Safety Coali
 tion and brings two decades of experience designing and implementing data 
 driven public safety frameworks\; Carrie Ann Shirota is a civil rights att
 orney and public policy advocate who has studied for-profit prison incarce
 ration\; Eric Seitz is a civil rights litigator whose work has advanced ac
 countability in correctional systems\; and Jim Richardson taught as a Univ
 ersity of Hawaiʻi business professor for 30 years\, where his research in
 cluded evaluating the economic costs of recidivism in Hawaiʻi’s prisons
 .\nTogether\, they bring legal\, policy\, and business expertise to bear o
 n the proposal’s risks\, costs\, and potential benefits. The discussion 
 will be grounded in evidence\, respectful of the legitimate public safety 
 and fiscal considerations that motivate public-private partnership proposa
 ls\, and focus on what best serves the long-term interests of Hawaiʻi’s
  communities and justice system.\nRSVP to attend in person: https://www.e
 ventbrite.com/e/examining-for-profit-correctional-facilities-in-hawaii-tic
 kets-1986355393453\nRegister to attend via Zoom: https://courts-hawaii-go
 v.zoom.us/webinar/register/WN_GCeM4ilYRQW6ONVZ3Vy6eg
LAST-MODIFIED:20260416T135810
LOCATION:Aliʻiōlani Hale\, 417 S King Street Supreme Court Courtroom
SUMMARY:For-Profit Correctional Facilities in Hawai'i 
URL;VALUE=URI:https://www.ccukailua.org/events/for-profit-correctional-faci
 lities-in-hawaii/2026-04-21
ATTACH;FILENAME=unnamed.png;FMTTYPE=image/png:https://dq5pwpg1q8ru0.cloudfr
 ont.net/2026/04/16/23/58/09/5b09c04c-3c99-4526-8ac0-834a287dd832/unnamed.p
 ng
END:VEVENT
END:VCALENDAR
